BEGIN:VCALENDAR
VERSION:2.0
PRODID:-//pretix//pretix.eu//
BEGIN:VTIMEZONE
TZID:Europe/Berlin
BEGIN:STANDARD
DTSTART:20001029T040000
RRULE:FREQ=YEARLY;BYDAY=-1SU;BYMONTH=10
TZNAME:CET
TZOFFSETFROM:+0200
TZOFFSETTO:+0100
END:STANDARD
BEGIN:DAYLIGHT
DTSTART:20000326T030000
RRULE:FREQ=YEARLY;BYDAY=-1SU;BYMONTH=3
TZNAME:CEST
TZOFFSETFROM:+0100
TZOFFSETTO:+0200
END:DAYLIGHT
END:VTIMEZONE
BEGIN:VEVENT
UID:pretix-NiLSS-PYP2-0@pretix.eu
DTSTART;TZID=Europe/Berlin:20260512T110000
DTEND;TZID=Europe/Berlin:20260512T123000
DESCRIPTION:Tickets: https://pretix.eu/NiLSS/PYP2/\nVeranstalter: Niedersä
 chsische Lotto-Sport-Stiftung
DTSTAMP:20260424T224530Z
LOCATION:Online via Zoom
SUMMARY:Offenes Netzwerktreffen mit „Pitch your Project“
END:VEVENT
END:VCALENDAR
