BEGIN:VCALENDAR
VERSION:2.0
PRODID:-//pretix//pretix.eu//
BEGIN:VTIMEZONE
TZID:Europe/Berlin
BEGIN:STANDARD
DTSTART:20001029T040000
RRULE:FREQ=YEARLY;BYDAY=-1SU;BYMONTH=10
TZNAME:CET
TZOFFSETFROM:+0200
TZOFFSETTO:+0100
END:STANDARD
BEGIN:DAYLIGHT
DTSTART:20000326T030000
RRULE:FREQ=YEARLY;BYDAY=-1SU;BYMONTH=3
TZNAME:CEST
TZOFFSETFROM:+0100
TZOFFSETTO:+0200
END:DAYLIGHT
END:VTIMEZONE
BEGIN:VEVENT
UID:pretix-NiLSS-Tischlein-9-0@pretix.eu
DTSTART;TZID=Europe/Berlin:20250911T180000
DTEND;TZID=Europe/Berlin:20250911T203000
DESCRIPTION:Tickets: https://pretix.eu/NiLSS/Tischlein-9/\nVeranstalter: Ni
 edersächsische Lotto-Sport-Stiftung
DTSTAMP:20260426T040227Z
LOCATION:Das Haus der Braunschweigischen Stiftungen\, Löwenwall 16\, 38100
  Braunschweig
SUMMARY:Tischlein Denk Dich -  Mit Rechten reden?
END:VEVENT
END:VCALENDAR
