BEGIN:VCALENDAR
VERSION:2.0
PRODID:-//pretix//pretix.eu//
BEGIN:VTIMEZONE
TZID:Europe/Berlin
BEGIN:STANDARD
DTSTART:20001029T040000
RRULE:FREQ=YEARLY;BYDAY=-1SU;BYMONTH=10
TZNAME:CET
TZOFFSETFROM:+0200
TZOFFSETTO:+0100
END:STANDARD
BEGIN:DAYLIGHT
DTSTART:20000326T030000
RRULE:FREQ=YEARLY;BYDAY=-1SU;BYMONTH=3
TZNAME:CEST
TZOFFSETFROM:+0100
TZOFFSETTO:+0200
END:DAYLIGHT
END:VTIMEZONE
BEGIN:VEVENT
UID:pretix-OMfinCon-OMfinCon26-0@pretix.eu
DTSTART;TZID=Europe/Berlin:20260521T130000
DTEND;TZID=Europe/Berlin:20260521T210000
DESCRIPTION:Tickets: https://pretix.eu/OMfinCon/OMfinCon26/\nEinlass: 21.05
 .2026 12:00\nVeranstalter: OMfinCon
DTSTAMP:20260420T123454Z
LOCATION:Festsaal Kreuzberg\, Am Flutgraben 2\, 12435 Berlin
SUMMARY:OMfinCon 2026 - Online Marketing Finance Conference
END:VEVENT
END:VCALENDAR
