BEGIN:VCALENDAR
VERSION:2.0
PRODID:-//pretix//pretix.eu//
BEGIN:VTIMEZONE
TZID:Europe/Berlin
BEGIN:STANDARD
DTSTART:20001029T040000
RRULE:FREQ=YEARLY;BYDAY=-1SU;BYMONTH=10
TZNAME:CET
TZOFFSETFROM:+0200
TZOFFSETTO:+0100
END:STANDARD
BEGIN:DAYLIGHT
DTSTART:20000326T030000
RRULE:FREQ=YEARLY;BYDAY=-1SU;BYMONTH=3
TZNAME:CEST
TZOFFSETFROM:+0100
TZOFFSETTO:+0200
END:DAYLIGHT
END:VTIMEZONE
BEGIN:VEVENT
UID:pretix-OSBA-mp18032026-0@pretix.eu
DTSTART;TZID=Europe/Berlin:20260318T170000
DTEND;TZID=Europe/Berlin:20260318T180000
DESCRIPTION:Tickets: https://pretix.eu/OSBA/mp18032026/\nVeranstalter: Open
  Source Business Alliance – Bundesverband für digitale Souveränität e
 .V.
DTSTAMP:20260421T122507Z
LOCATION:Online - BigBlueButton
SUMMARY:OSBA Members & Products März 2026
END:VEVENT
END:VCALENDAR
