BEGIN:VCALENDAR
VERSION:2.0
PRODID:-//pretix//pretix.eu//
BEGIN:VTIMEZONE
TZID:Europe/Berlin
BEGIN:STANDARD
DTSTART:20001029T040000
RRULE:FREQ=YEARLY;BYDAY=-1SU;BYMONTH=10
TZNAME:CET
TZOFFSETFROM:+0200
TZOFFSETTO:+0100
END:STANDARD
BEGIN:DAYLIGHT
DTSTART:20000326T030000
RRULE:FREQ=YEARLY;BYDAY=-1SU;BYMONTH=3
TZNAME:CEST
TZOFFSETFROM:+0100
TZOFFSETTO:+0200
END:DAYLIGHT
END:VTIMEZONE
BEGIN:VEVENT
UID:pretix-OTconferentie-2026-0@pretix.eu
DTSTART;TZID=Europe/Berlin:20260422T100000
DTEND;TZID=Europe/Berlin:20260422T171500
DESCRIPTION:Tickets: https://pretix.eu/OTconferentie/2026/\nToegang: 22-4-2
 026 09:30\nOrganisator: OT & Cybersecurity Conferentie 2026
DTSTAMP:20260423T153142Z
LOCATION:De Rijtuigenloods\, Piet Mondriaanplein 61\, 3812 BH Amersfoort
SUMMARY:OT & Cybersecurity Conferentie 2026
END:VEVENT
END:VCALENDAR
