BEGIN:VCALENDAR
VERSION:2.0
PRODID:-//pretix//pretix.eu//
BEGIN:VTIMEZONE
TZID:Europe/Berlin
BEGIN:STANDARD
DTSTART:20001029T040000
RRULE:FREQ=YEARLY;BYDAY=-1SU;BYMONTH=10
TZNAME:CET
TZOFFSETFROM:+0200
TZOFFSETTO:+0100
END:STANDARD
BEGIN:DAYLIGHT
DTSTART:20000326T030000
RRULE:FREQ=YEARLY;BYDAY=-1SU;BYMONTH=3
TZNAME:CEST
TZOFFSETFROM:+0100
TZOFFSETTO:+0200
END:DAYLIGHT
END:VTIMEZONE
BEGIN:VEVENT
UID:pretix-OpenEmbedded-OEW24-0@pretix.eu
DTSTART;TZID=Europe/Berlin:20240205T090000
DTEND;TZID=Europe/Berlin:20240205T180000
DESCRIPTION:Tickets: https://pretix.eu/OpenEmbedded/OEW24/\nAdmission: 2024
 -02-05 09:00\nOrganizer: OpenEmbedded
DTSTAMP:20260424T072303Z
LOCATION:Avenue Louise 523\, 1050 Brussels\, Belgium
SUMMARY:OpenEmbedded Workshop 2024
END:VEVENT
END:VCALENDAR
