BEGIN:VCALENDAR
VERSION:2.0
PRODID:-//pretix//pretix.eu//
BEGIN:VTIMEZONE
TZID:Europe/Rome
BEGIN:STANDARD
DTSTART:20001029T040000
RRULE:FREQ=YEARLY;BYDAY=-1SU;BYMONTH=10
TZNAME:CET
TZOFFSETFROM:+0200
TZOFFSETTO:+0100
END:STANDARD
BEGIN:DAYLIGHT
DTSTART:20000326T030000
RRULE:FREQ=YEARLY;BYDAY=-1SU;BYMONTH=3
TZNAME:CEST
TZOFFSETFROM:+0100
TZOFFSETTO:+0200
END:DAYLIGHT
END:VTIMEZONE
BEGIN:VEVENT
UID:pretix-P42-ua7hn-0@pretix.eu
DTSTART;TZID=Europe/Rome:20200521T210000
DTEND;TZID=Europe/Rome:20200521T220000
DESCRIPTION:Tickets: https://pretix.eu/P42/ua7hn/\nOrganizer: Progetto 42
DTSTAMP:20260425T204757Z
LOCATION:Evento online via web-browser (consigliamo Chrome e Safari)
SUMMARY:Progetto 42 #3: Org-mode | gambe.ro
END:VEVENT
END:VCALENDAR
