BEGIN:VCALENDAR
VERSION:2.0
PRODID:-//pretix//pretix.eu//
BEGIN:VTIMEZONE
TZID:Europe/Berlin
BEGIN:STANDARD
DTSTART:20001029T040000
RRULE:FREQ=YEARLY;BYDAY=-1SU;BYMONTH=10
TZNAME:CET
TZOFFSETFROM:+0200
TZOFFSETTO:+0100
END:STANDARD
BEGIN:DAYLIGHT
DTSTART:20000326T030000
RRULE:FREQ=YEARLY;BYDAY=-1SU;BYMONTH=3
TZNAME:CEST
TZOFFSETFROM:+0100
TZOFFSETTO:+0200
END:DAYLIGHT
END:VTIMEZONE
BEGIN:VEVENT
UID:pretix-PACT-mghbt-0@pretix.eu
DTSTART;TZID=Europe/Berlin:20231014T160000
DTEND;TZID=Europe/Berlin:20231014T170000
DESCRIPTION:Tickets: https://pretix.eu/PACT/mghbt/\nVeranstalter: PACT e.V.
  - Performing Arts Collective Tübingen
DTSTAMP:20260424T154828Z
LOCATION:Sudhaus Tübingen\, Theatersaal
SUMMARY:PACT Festival: Rabenmutter - Eine Performance mit Claudia Lakeberg 
 vom tanztheater treibhaus
END:VEVENT
END:VCALENDAR
