BEGIN:VCALENDAR
VERSION:2.0
PRODID:-//pretix//pretix.eu//
BEGIN:VTIMEZONE
TZID:Europe/Berlin
BEGIN:STANDARD
DTSTART:20001029T040000
RRULE:FREQ=YEARLY;BYDAY=-1SU;BYMONTH=10
TZNAME:CET
TZOFFSETFROM:+0200
TZOFFSETTO:+0100
END:STANDARD
BEGIN:DAYLIGHT
DTSTART:20000326T030000
RRULE:FREQ=YEARLY;BYDAY=-1SU;BYMONTH=3
TZNAME:CEST
TZOFFSETFROM:+0100
TZOFFSETTO:+0200
END:DAYLIGHT
END:VTIMEZONE
BEGIN:VEVENT
UID:pretix-Philipp-Schaeffer-Bibliothek-kadmos290526-0@pretix.eu
DTSTART;TZID=Europe/Berlin:20260529T193000
DTEND;TZID=Europe/Berlin:20260529T210000
DESCRIPTION:Tickets: https://pretix.eu/Philipp-Schaeffer-Bibliothek/kadmos2
 90526/\nVeranstalter: Philipp-Schaeffer-Bibliothek
DTSTAMP:20260420T210208Z
LOCATION:Philipp-Schaeffer Bibliothek
SUMMARY:„Berliner Tiere“ & „Flirtende Fauna“ - Buchpräsentation mi
 t dem Kadmos Verlag
END:VEVENT
END:VCALENDAR
