BEGIN:VCALENDAR
VERSION:2.0
PRODID:-//pretix//pretix.eu//
BEGIN:VTIMEZONE
TZID:Europe/Berlin
BEGIN:STANDARD
DTSTART:20001029T040000
RRULE:FREQ=YEARLY;BYDAY=-1SU;BYMONTH=10
TZNAME:CET
TZOFFSETFROM:+0200
TZOFFSETTO:+0100
END:STANDARD
BEGIN:DAYLIGHT
DTSTART:20000326T030000
RRULE:FREQ=YEARLY;BYDAY=-1SU;BYMONTH=3
TZNAME:CEST
TZOFFSETFROM:+0100
TZOFFSETTO:+0200
END:DAYLIGHT
END:VTIMEZONE
BEGIN:VEVENT
UID:pretix-Philipp-Schaeffer-Bibliothek-kranz-0@pretix.eu
DTSTART;TZID=Europe/Berlin:20260424T183000
DTEND;TZID=Europe/Berlin:20260424T193000
DESCRIPTION:Tickets: https://pretix.eu/Philipp-Schaeffer-Bibliothek/kranz/\
 nVeranstalter: Philipp-Schaeffer-Bibliothek
DTSTAMP:20260421T081346Z
LOCATION:Makerspace der Philipp-Schaeffer-Bibliothek
SUMMARY:„Produce and Juice“ – Kreativworkshop für Erwachsene
END:VEVENT
END:VCALENDAR
