BEGIN:VCALENDAR
VERSION:2.0
PRODID:-//pretix//pretix.eu//
BEGIN:VTIMEZONE
TZID:Europe/Brussels
BEGIN:STANDARD
DTSTART:20001029T040000
RRULE:FREQ=YEARLY;BYDAY=-1SU;BYMONTH=10
TZNAME:CET
TZOFFSETFROM:+0200
TZOFFSETTO:+0100
END:STANDARD
BEGIN:DAYLIGHT
DTSTART:20000326T030000
RRULE:FREQ=YEARLY;BYDAY=-1SU;BYMONTH=3
TZNAME:CEST
TZOFFSETFROM:+0100
TZOFFSETTO:+0200
END:DAYLIGHT
END:VTIMEZONE
BEGIN:VEVENT
UID:pretix-SKEPP-KritischDenken-4746265@pretix.eu
DTSTART;TZID=Europe/Brussels:20260310T200000
DTEND;TZID=Europe/Brussels:20260310T210000
DESCRIPTION:Tickets: https://pretix.eu/SKEPP/KritischDenken/4746265/\nToega
 ng: 10-3-2026 19:00\nOrganisator: SKEPP
DTSTAMP:20260423T152745Z
LOCATION:Kunstacademie\, Zaal Scene\, Molenvest 21\, 2200 Herentals
SUMMARY:Hans Van Dyck - Evolutionair denken\, van maatschappelijk blinde vl
 ek tot inzicht in onze beestige cultuur
END:VEVENT
END:VCALENDAR
