BEGIN:VCALENDAR
VERSION:2.0
PRODID:-//pretix//pretix.eu//
BEGIN:VTIMEZONE
TZID:Europe/Berlin
BEGIN:STANDARD
DTSTART:20001029T040000
RRULE:FREQ=YEARLY;BYDAY=-1SU;BYMONTH=10
TZNAME:CET
TZOFFSETFROM:+0200
TZOFFSETTO:+0100
END:STANDARD
BEGIN:DAYLIGHT
DTSTART:20000326T030000
RRULE:FREQ=YEARLY;BYDAY=-1SU;BYMONTH=3
TZNAME:CEST
TZOFFSETFROM:+0100
TZOFFSETTO:+0200
END:DAYLIGHT
END:VTIMEZONE
BEGIN:VEVENT
UID:pretix-SNBD-snbd26-0@pretix.eu
DTSTART;TZID=Europe/Berlin:20260612T153000
DTEND;TZID=Europe/Berlin:20260613T173000
DESCRIPTION:Tickets: https://pretix.eu/SNBD/snbd26/\nVeranstalter: Sketchno
 te-Barcamp Deutschland e.V.
DTSTAMP:20260422T141135Z
LOCATION:Göttingen\, --------------\, Zufall-Lab\, Gotthelf-Leimbach-Stra
 ße 3\, 37079 Göttingen
SUMMARY:#SNBD26
END:VEVENT
END:VCALENDAR
