BEGIN:VCALENDAR
VERSION:2.0
PRODID:-//pretix//pretix.eu//
BEGIN:VTIMEZONE
TZID:Europe/Berlin
BEGIN:STANDARD
DTSTART:20001029T040000
RRULE:FREQ=YEARLY;BYDAY=-1SU;BYMONTH=10
TZNAME:CET
TZOFFSETFROM:+0200
TZOFFSETTO:+0100
END:STANDARD
BEGIN:DAYLIGHT
DTSTART:20000326T030000
RRULE:FREQ=YEARLY;BYDAY=-1SU;BYMONTH=3
TZNAME:CEST
TZOFFSETFROM:+0100
TZOFFSETTO:+0200
END:DAYLIGHT
END:VTIMEZONE
BEGIN:VEVENT
UID:pretix-STUPA-BeachVolleyball-0@pretix.eu
DTSTART;TZID=Europe/Berlin:20260502T094000
DTEND;TZID=Europe/Berlin:20260502T104000
DESCRIPTION:Tickets: https://pretix.eu/STUPA/BeachVolleyball/\nOrganizer: V
 erfasste Studierendenschaft der Hochschule Reutlingen (STUPA)
DTSTAMP:20260419T122837Z
LOCATION:Beachvolleyballfelder Markwasen
SUMMARY:Beach Volleyball Tournament
END:VEVENT
END:VCALENDAR
