BEGIN:VCALENDAR
VERSION:2.0
PRODID:-//pretix//pretix.eu//
BEGIN:VTIMEZONE
TZID:Europe/Berlin
BEGIN:STANDARD
DTSTART:20001029T040000
RRULE:FREQ=YEARLY;BYDAY=-1SU;BYMONTH=10
TZNAME:CET
TZOFFSETFROM:+0200
TZOFFSETTO:+0100
END:STANDARD
BEGIN:DAYLIGHT
DTSTART:20000326T030000
RRULE:FREQ=YEARLY;BYDAY=-1SU;BYMONTH=3
TZNAME:CEST
TZOFFSETFROM:+0100
TZOFFSETTO:+0200
END:DAYLIGHT
END:VTIMEZONE
BEGIN:VEVENT
UID:pretix-STUPA-ski-4899443@pretix.eu
DTSTART;TZID=Europe/Berlin:20261219T040000
DTEND;TZID=Europe/Berlin:20261219T050000
DESCRIPTION:Tickets: https://pretix.eu/STUPA/ski/4899443/\nVeranstalter: Ve
 rfasste Studierendenschaft der Hochschule Reutlingen (STUPA)
DTSTAMP:20260421T174036Z
LOCATION:Skigebiet Ischgl Österreich
SUMMARY:Skiausfahrt - Ischgl 19.12 mit Après-Ski
END:VEVENT
END:VCALENDAR
