BEGIN:VCALENDAR
VERSION:2.0
PRODID:-//pretix//pretix.eu//
BEGIN:VTIMEZONE
TZID:Europe/Berlin
BEGIN:STANDARD
DTSTART:20001029T040000
RRULE:FREQ=YEARLY;BYDAY=-1SU;BYMONTH=10
TZNAME:CET
TZOFFSETFROM:+0200
TZOFFSETTO:+0100
END:STANDARD
BEGIN:DAYLIGHT
DTSTART:20000326T030000
RRULE:FREQ=YEARLY;BYDAY=-1SU;BYMONTH=3
TZNAME:CEST
TZOFFSETFROM:+0100
TZOFFSETTO:+0200
END:DAYLIGHT
END:VTIMEZONE
BEGIN:VEVENT
UID:pretix-SUPERRR-gesundheitsdaten-0@pretix.eu
DTSTART;TZID=Europe/Berlin:20231207T190000
DTEND;TZID=Europe/Berlin:20231207T213000
DESCRIPTION:Tickets: https://pretix.eu/SUPERRR/gesundheitsdaten/\nEinlass: 
 07.12.2023 18:45\nVeranstalter: SUPERRR Lab
DTSTAMP:20260424T120822Z
LOCATION:Wikimedia Deutschland - Gesellschaft zur Förderung Freien Wissens
  e.V.\, Tempelhofer Ufer 23-24\, 10963 Berlin
SUMMARY:Gesundheitsdaten: was erwarten wir vom digitalen Gesundheitssystem?
END:VEVENT
END:VCALENDAR
