BEGIN:VCALENDAR
VERSION:2.0
PRODID:-//pretix//pretix.eu//
BEGIN:VTIMEZONE
TZID:Europe/Berlin
BEGIN:STANDARD
DTSTART:20001029T040000
RRULE:FREQ=YEARLY;BYDAY=-1SU;BYMONTH=10
TZNAME:CET
TZOFFSETFROM:+0200
TZOFFSETTO:+0100
END:STANDARD
BEGIN:DAYLIGHT
DTSTART:20000326T030000
RRULE:FREQ=YEARLY;BYDAY=-1SU;BYMONTH=3
TZNAME:CEST
TZOFFSETFROM:+0100
TZOFFSETTO:+0200
END:DAYLIGHT
END:VTIMEZONE
BEGIN:VEVENT
UID:pretix-SUPERRR-kimachtmythen-0@pretix.eu
DTSTART;TZID=Europe/Berlin:20260416T180000
DTEND;TZID=Europe/Berlin:20260416T190000
DESCRIPTION:Tickets: https://pretix.eu/SUPERRR/kimachtmythen/\nVeranstalter
 : SUPERRR Lab
DTSTAMP:20260421T231324Z
LOCATION:Schiller-Bibliothek Wedding
SUMMARY:„KI: Macht\, Mythen\, Missverständnisse“ Eine Gesprächsreihe 
 über künstliche Intelligenz
END:VEVENT
END:VCALENDAR
