BEGIN:VCALENDAR
VERSION:2.0
PRODID:-//pretix//pretix.eu//
BEGIN:VTIMEZONE
TZID:Europe/Berlin
BEGIN:STANDARD
DTSTART:20001029T040000
RRULE:FREQ=YEARLY;BYDAY=-1SU;BYMONTH=10
TZNAME:CET
TZOFFSETFROM:+0200
TZOFFSETTO:+0100
END:STANDARD
BEGIN:DAYLIGHT
DTSTART:20000326T030000
RRULE:FREQ=YEARLY;BYDAY=-1SU;BYMONTH=3
TZNAME:CEST
TZOFFSETFROM:+0100
TZOFFSETTO:+0200
END:DAYLIGHT
END:VTIMEZONE
BEGIN:VEVENT
UID:pretix-SUPERRR-kixbibliotheken-4891192@pretix.eu
DTSTART;TZID=Europe/Berlin:20260430T180000
DTEND;TZID=Europe/Berlin:20260430T190000
DESCRIPTION:Tickets: https://pretix.eu/SUPERRR/kixbibliotheken/4891192/\nVe
 ranstalter: SUPERRR Lab
DTSTAMP:20260421T174910Z
LOCATION:Spandau Bezirkszentralbibliothek\, Carl-Schurz-Str. 13\, 13597 Ber
 lin
SUMMARY:KI\, was ist das eigentlich und welche Macht steckt dahinter? [Span
 dau]
END:VEVENT
END:VCALENDAR
