BEGIN:VCALENDAR
VERSION:2.0
PRODID:-//pretix//pretix.eu//
BEGIN:VTIMEZONE
TZID:Europe/Berlin
BEGIN:STANDARD
DTSTART:20001029T040000
RRULE:FREQ=YEARLY;BYDAY=-1SU;BYMONTH=10
TZNAME:CET
TZOFFSETFROM:+0200
TZOFFSETTO:+0100
END:STANDARD
BEGIN:DAYLIGHT
DTSTART:20000326T030000
RRULE:FREQ=YEARLY;BYDAY=-1SU;BYMONTH=3
TZNAME:CEST
TZOFFSETFROM:+0100
TZOFFSETTO:+0200
END:DAYLIGHT
END:VTIMEZONE
BEGIN:VEVENT
UID:pretix-SUPERRR-kixbibliotheken-4891193@pretix.eu
DTSTART;TZID=Europe/Berlin:20260412T143000
DTEND;TZID=Europe/Berlin:20260412T153000
DESCRIPTION:Tickets: https://pretix.eu/SUPERRR/kixbibliotheken/4891193/\nVe
 ranstalter: SUPERRR Lab
DTSTAMP:20260422T033530Z
LOCATION:Amerika-Gedenkbibliothek
SUMMARY:KI\, was ist das eigentlich und welche Macht steckt dahinter? [Kreu
 zberg]
END:VEVENT
END:VCALENDAR
