BEGIN:VCALENDAR
VERSION:2.0
PRODID:-//pretix//pretix.eu//
BEGIN:VTIMEZONE
TZID:Europe/Berlin
BEGIN:STANDARD
DTSTART:20001029T040000
RRULE:FREQ=YEARLY;BYDAY=-1SU;BYMONTH=10
TZNAME:CET
TZOFFSETFROM:+0200
TZOFFSETTO:+0100
END:STANDARD
BEGIN:DAYLIGHT
DTSTART:20000326T030000
RRULE:FREQ=YEARLY;BYDAY=-1SU;BYMONTH=3
TZNAME:CEST
TZOFFSETFROM:+0100
TZOFFSETTO:+0200
END:DAYLIGHT
END:VTIMEZONE
BEGIN:VEVENT
UID:pretix-Schiller-Bibliothek-Zine01-0@pretix.eu
DTSTART;TZID=Europe/Berlin:20260401T150000
DTEND;TZID=Europe/Berlin:20260401T170000
DESCRIPTION:Tickets: https://pretix.eu/Schiller-Bibliothek/Zine01/\nEinlass
 : 01.04.2026 14:50\nVeranstalter: Schiller-Bibliothek
DTSTAMP:20260423T035217Z
LOCATION:Schiller-Bibliothek
SUMMARY:Workshop: Zine-Making | 01.04.2026
END:VEVENT
END:VCALENDAR
