BEGIN:VCALENDAR
VERSION:2.0
PRODID:-//pretix//pretix.eu//
BEGIN:VTIMEZONE
TZID:Europe/Berlin
BEGIN:STANDARD
DTSTART:20001029T040000
RRULE:FREQ=YEARLY;BYDAY=-1SU;BYMONTH=10
TZNAME:CET
TZOFFSETFROM:+0200
TZOFFSETTO:+0100
END:STANDARD
BEGIN:DAYLIGHT
DTSTART:20000326T030000
RRULE:FREQ=YEARLY;BYDAY=-1SU;BYMONTH=3
TZNAME:CEST
TZOFFSETFROM:+0100
TZOFFSETTO:+0200
END:DAYLIGHT
END:VTIMEZONE
BEGIN:VEVENT
UID:pretix-Sinsheim-vernissage-0@pretix.eu
DTSTART;TZID=Europe/Berlin:20230818T180000
DTEND;TZID=Europe/Berlin:20230818T190000
DESCRIPTION:Tickets: https://pretix.eu/Sinsheim/vernissage/\nVeranstalter: 
 Stadtverwaltung Sinsheim
DTSTAMP:20260421T164209Z
LOCATION:Foyer im Rathaus Sinsheim\, Wilhelmstraße 14-16
SUMMARY:Vernissage "Es liegt ein Schatz in den Menschen"
END:VEVENT
END:VCALENDAR
