BEGIN:VCALENDAR
VERSION:2.0
PRODID:-//pretix//pretix.eu//
BEGIN:VTIMEZONE
TZID:Europe/Berlin
BEGIN:STANDARD
DTSTART:20001029T040000
RRULE:FREQ=YEARLY;BYDAY=-1SU;BYMONTH=10
TZNAME:CET
TZOFFSETFROM:+0200
TZOFFSETTO:+0100
END:STANDARD
BEGIN:DAYLIGHT
DTSTART:20000326T030000
RRULE:FREQ=YEARLY;BYDAY=-1SU;BYMONTH=3
TZNAME:CEST
TZOFFSETFROM:+0100
TZOFFSETTO:+0200
END:DAYLIGHT
END:VTIMEZONE
BEGIN:VEVENT
UID:pretix-StaatsbibliothekZuBerlin-Aktendiskussion-0@pretix.eu
DTSTART;TZID=Europe/Berlin:20240927T110000
DTEND;TZID=Europe/Berlin:20240927T180000
DESCRIPTION:Tickets: https://pretix.eu/StaatsbibliothekZuBerlin/Aktendiskus
 sion/\nEinlass: 27.09.2024 10:00\nVeranstalter: Staatsbibliothek zu Berlin
  – Preußischer Kulturbesitz
DTSTAMP:20260419T230311Z
LOCATION:Staatsbibliothek zu Berlin\, Theodor Fontane-Saal\, Unter den Lind
 en 8\, 10117 Berlin
SUMMARY:Symposium „Aktendiskussion“ – Zufallsfunde\, Archivanekdoten 
 und Forschungsideen
END:VEVENT
END:VCALENDAR
