BEGIN:VCALENDAR
VERSION:2.0
PRODID:-//pretix//pretix.eu//
BEGIN:VTIMEZONE
TZID:Europe/Berlin
BEGIN:STANDARD
DTSTART:20001029T040000
RRULE:FREQ=YEARLY;BYDAY=-1SU;BYMONTH=10
TZNAME:CET
TZOFFSETFROM:+0200
TZOFFSETTO:+0100
END:STANDARD
BEGIN:DAYLIGHT
DTSTART:20000326T030000
RRULE:FREQ=YEARLY;BYDAY=-1SU;BYMONTH=3
TZNAME:CEST
TZOFFSETFROM:+0100
TZOFFSETTO:+0200
END:DAYLIGHT
END:VTIMEZONE
BEGIN:VEVENT
UID:pretix-StaatsbibliothekZuBerlin-FilmZauber-0@pretix.eu
DTSTART;TZID=Europe/Berlin:20231102T190000
DTEND;TZID=Europe/Berlin:20231102T210000
DESCRIPTION:Tickets: https://pretix.eu/StaatsbibliothekZuBerlin/FilmZauber/
 \nVeranstalter: Staatsbibliothek zu Berlin – Preußischer Kulturbesitz
DTSTAMP:20260422T020712Z
LOCATION:Staatsbibliothek zu Berlin\, Otto-Braun-Saal\, Potsdamer Str. 33\,
  10785 Berlin
SUMMARY:Filmvorführung "Zauber um Zinnober" mit anschließender Podiumsdis
 kussion
END:VEVENT
END:VCALENDAR
