BEGIN:VCALENDAR
VERSION:2.0
PRODID:-//pretix//pretix.eu//
BEGIN:VTIMEZONE
TZID:Europe/Berlin
BEGIN:STANDARD
DTSTART:20001029T040000
RRULE:FREQ=YEARLY;BYDAY=-1SU;BYMONTH=10
TZNAME:CET
TZOFFSETFROM:+0200
TZOFFSETTO:+0100
END:STANDARD
BEGIN:DAYLIGHT
DTSTART:20000326T030000
RRULE:FREQ=YEARLY;BYDAY=-1SU;BYMONTH=3
TZNAME:CEST
TZOFFSETFROM:+0100
TZOFFSETTO:+0200
END:DAYLIGHT
END:VTIMEZONE
BEGIN:VEVENT
UID:pretix-StaatsbibliothekZuBerlin-GlobaleKrisen-0@pretix.eu
DTSTART;TZID=Europe/Berlin:20231213T190000
DTEND;TZID=Europe/Berlin:20231213T203000
DESCRIPTION:Tickets: https://pretix.eu/StaatsbibliothekZuBerlin/GlobaleKris
 en/\nEinlass: 13.12.2023 18:30\nVeranstalter: Staatsbibliothek zu Berlin 
 – Preußischer Kulturbesitz
DTSTAMP:20260419T120049Z
LOCATION:Staatsbibliothek zu Berlin\, Wilhelm-von-Humboldt-Saal\, Unter den
  Linden 8\, 10117 Berlin
SUMMARY:Globale Krisen - Problem oder Lösung? Über die Krise des Kapitali
 smus - Gesprächsreihe über die Herausforderungen des 21. Jahrhunderts
END:VEVENT
END:VCALENDAR
