BEGIN:VCALENDAR
VERSION:2.0
PRODID:-//pretix//pretix.eu//
BEGIN:VTIMEZONE
TZID:Europe/Berlin
BEGIN:STANDARD
DTSTART:20001029T040000
RRULE:FREQ=YEARLY;BYDAY=-1SU;BYMONTH=10
TZNAME:CET
TZOFFSETFROM:+0200
TZOFFSETTO:+0100
END:STANDARD
BEGIN:DAYLIGHT
DTSTART:20000326T030000
RRULE:FREQ=YEARLY;BYDAY=-1SU;BYMONTH=3
TZNAME:CEST
TZOFFSETFROM:+0100
TZOFFSETTO:+0200
END:DAYLIGHT
END:VTIMEZONE
BEGIN:VEVENT
UID:pretix-StaatsbibliothekZuBerlin-pubquiz-13-5-26-0@pretix.eu
DTSTART;TZID=Europe/Berlin:20260513T180000
DTEND;TZID=Europe/Berlin:20260513T200000
DESCRIPTION:Tickets: https://pretix.eu/StaatsbibliothekZuBerlin/pubquiz-13-
 5-26/\nVeranstalter: Staatsbibliothek zu Berlin – Preußischer Kulturbes
 itz
DTSTAMP:20260421T032858Z
LOCATION:Staatsbibliothek zu Berlin\, Café Felix\, Unter den Linden 8\, 10
 117 Berlin
SUMMARY:Literaturquiz: Unheimlich rätselhaft - Schauer & Grusel von E.T.A.
  Hoffmann bis heute
END:VEVENT
END:VCALENDAR
