BEGIN:VCALENDAR
VERSION:2.0
PRODID:-//pretix//pretix.eu//
BEGIN:VTIMEZONE
TZID:Europe/Berlin
BEGIN:STANDARD
DTSTART:20001029T040000
RRULE:FREQ=YEARLY;BYDAY=-1SU;BYMONTH=10
TZNAME:CET
TZOFFSETFROM:+0200
TZOFFSETTO:+0100
END:STANDARD
BEGIN:DAYLIGHT
DTSTART:20000326T030000
RRULE:FREQ=YEARLY;BYDAY=-1SU;BYMONTH=3
TZNAME:CEST
TZOFFSETFROM:+0100
TZOFFSETTO:+0200
END:DAYLIGHT
END:VTIMEZONE
BEGIN:VEVENT
UID:pretix-StaatsbibliothekZuBerlin-spuren12-0@pretix.eu
DTSTART;TZID=Europe/Berlin:20250409T120000
DTEND;TZID=Europe/Berlin:20250409T140000
DESCRIPTION:Tickets: https://pretix.eu/StaatsbibliothekZuBerlin/spuren12/\n
 Veranstalter: Staatsbibliothek zu Berlin – Preußischer Kulturbesitz
DTSTAMP:20260419T211707Z
LOCATION:Treffpunkt: Vor dem Eingang zur W. M. Blumenthal Akademie\, Fromet
 -und-Moses-Mendelssohn-Platz 1\, 10969 Berlin (gegenüber dem Jüdischen M
 useum)
SUMMARY:Tag der Provenienzforschung 2025 |#spurensuche – Provenienzspazie
 rgang | 12 Uhr
END:VEVENT
END:VCALENDAR
