BEGIN:VCALENDAR
VERSION:2.0
PRODID:-//pretix//pretix.eu//
BEGIN:VTIMEZONE
TZID:Europe/Berlin
BEGIN:STANDARD
DTSTART:20001029T040000
RRULE:FREQ=YEARLY;BYDAY=-1SU;BYMONTH=10
TZNAME:CET
TZOFFSETFROM:+0200
TZOFFSETTO:+0100
END:STANDARD
BEGIN:DAYLIGHT
DTSTART:20000326T030000
RRULE:FREQ=YEARLY;BYDAY=-1SU;BYMONTH=3
TZNAME:CEST
TZOFFSETFROM:+0100
TZOFFSETTO:+0200
END:DAYLIGHT
END:VTIMEZONE
BEGIN:VEVENT
UID:pretix-StadtbibliothekMitte-bepl-stbmitte-0@pretix.eu
DTSTART;TZID=Europe/Berlin:20251201T173000
DTEND;TZID=Europe/Berlin:20251201T203000
DESCRIPTION:Tickets: https://pretix.eu/StadtbibliothekMitte/bepl-stbmitte/\
 nVeranstalter: Stadtbibliothek Berlin-Mitte
DTSTAMP:20260422T162020Z
LOCATION:Schiller-Bibliothek mit @hugo-Jugendmedienetage\, Müllerstr. 149\
 , 13353 Berlin
SUMMARY:Wie sieht Ihre Bibliothek der Zukunft aus?
END:VEVENT
END:VCALENDAR
