BEGIN:VCALENDAR
VERSION:2.0
PRODID:-//pretix//pretix.eu//
BEGIN:VTIMEZONE
TZID:Europe/Berlin
BEGIN:STANDARD
DTSTART:20001029T040000
RRULE:FREQ=YEARLY;BYDAY=-1SU;BYMONTH=10
TZNAME:CET
TZOFFSETFROM:+0200
TZOFFSETTO:+0100
END:STANDARD
BEGIN:DAYLIGHT
DTSTART:20000326T030000
RRULE:FREQ=YEARLY;BYDAY=-1SU;BYMONTH=3
TZNAME:CEST
TZOFFSETFROM:+0100
TZOFFSETTO:+0200
END:DAYLIGHT
END:VTIMEZONE
BEGIN:VEVENT
UID:pretix-StadtkapelleFB-xqcrk-4904677@pretix.eu
DTSTART;TZID=Europe/Berlin:20260530T200000
DTEND;TZID=Europe/Berlin:20260530T210000
DESCRIPTION:Tickets: https://pretix.eu/StadtkapelleFB/xqcrk/4904677/\nEinla
 ss: 30.05.2026 19:30\nVeranstalter: Frühjahrskonzert 2026 der Stadtkapell
 e Friedberg
DTSTAMP:20260425T021516Z
LOCATION:61169 Friedberg\, Stadthalle Friedberg
SUMMARY:Frühjahrskonzert 2026 der Stadtkapelle Friedberg
END:VEVENT
END:VCALENDAR
