BEGIN:VCALENDAR
VERSION:2.0
PRODID:-//pretix//pretix.eu//
BEGIN:VTIMEZONE
TZID:Europe/Berlin
BEGIN:STANDARD
DTSTART:20001029T040000
RRULE:FREQ=YEARLY;BYDAY=-1SU;BYMONTH=10
TZNAME:CET
TZOFFSETFROM:+0200
TZOFFSETTO:+0100
END:STANDARD
BEGIN:DAYLIGHT
DTSTART:20000326T030000
RRULE:FREQ=YEARLY;BYDAY=-1SU;BYMONTH=3
TZNAME:CEST
TZOFFSETFROM:+0100
TZOFFSETTO:+0200
END:DAYLIGHT
END:VTIMEZONE
BEGIN:VEVENT
UID:pretix-Stadtkultur-Mitte-KunstamBauLS-2-0@pretix.eu
DTSTART;TZID=Europe/Berlin:20240629T110000
DTEND;TZID=Europe/Berlin:20240629T123000
DESCRIPTION:Tickets: https://pretix.eu/Stadtkultur-Mitte/KunstamBauLS-2/\nV
 eranstalter: Bezirksamt Mitte von Berlin\, Fachbereich Kunst\, Kultur und 
 Geschichte
DTSTAMP:20260422T003547Z
LOCATION:Treffpunkt: Schloßplatz 1\, vor dem Staatsratsgebäude (heute ESM
 T - European School of Management and Technology Berlin)
SUMMARY:Kunst am Bau entlang der Leipziger Straße
END:VEVENT
END:VCALENDAR
