BEGIN:VCALENDAR
VERSION:2.0
PRODID:-//pretix//pretix.eu//
BEGIN:VTIMEZONE
TZID:Europe/Berlin
BEGIN:STANDARD
DTSTART:20001029T040000
RRULE:FREQ=YEARLY;BYDAY=-1SU;BYMONTH=10
TZNAME:CET
TZOFFSETFROM:+0200
TZOFFSETTO:+0100
END:STANDARD
BEGIN:DAYLIGHT
DTSTART:20000326T030000
RRULE:FREQ=YEARLY;BYDAY=-1SU;BYMONTH=3
TZNAME:CEST
TZOFFSETFROM:+0100
TZOFFSETTO:+0200
END:DAYLIGHT
END:VTIMEZONE
BEGIN:VEVENT
UID:pretix-Stoffdeale-Tufting-Workshop-4902742@pretix.eu
DTSTART;TZID=Europe/Berlin:20260416T181500
DTEND;TZID=Europe/Berlin:20260416T204500
DESCRIPTION:Tickets: https://pretix.eu/Stoffdeale/Tufting-Workshop/4902742/
 \nEinlass: 17.04.2026 18:10\nVeranstalter: Stoffdeale
DTSTAMP:20260420T172821Z
LOCATION:Stoffdeale\, Große Gasse 9\, 64720 Michelstadt
SUMMARY:Workshop: Teppiche Tuften Teil 2
END:VEVENT
END:VCALENDAR
