BEGIN:VCALENDAR
VERSION:2.0
PRODID:-//pretix//pretix.eu//
BEGIN:VTIMEZONE
TZID:Europe/Amsterdam
BEGIN:STANDARD
DTSTART:20001029T040000
RRULE:FREQ=YEARLY;BYDAY=-1SU;BYMONTH=10
TZNAME:CET
TZOFFSETFROM:+0200
TZOFFSETTO:+0100
END:STANDARD
BEGIN:DAYLIGHT
DTSTART:20000326T030000
RRULE:FREQ=YEARLY;BYDAY=-1SU;BYMONTH=3
TZNAME:CEST
TZOFFSETFROM:+0100
TZOFFSETTO:+0200
END:DAYLIGHT
END:VTIMEZONE
BEGIN:VEVENT
UID:pretix-TOPdelft-02062021-0@pretix.eu
DTSTART;TZID=Europe/Amsterdam:20210602T191500
DTEND;TZID=Europe/Amsterdam:20210602T210000
DESCRIPTION:Kaartjes: https://pretix.eu/TOPdelft/02062021/\nOrganisator: TO
 Pdelft
DTSTAMP:20260422T123329Z
LOCATION:Obrechtstraat 50\, Delft
SUMMARY:Together in de wijk: Wijkwandeling Buitenhof
END:VEVENT
END:VCALENDAR
