BEGIN:VCALENDAR
VERSION:2.0
PRODID:-//pretix//pretix.eu//
BEGIN:VTIMEZONE
TZID:Africa/Johannesburg
BEGIN:STANDARD
DTSTART:20000101T000000
RRULE:FREQ=YEARLY;BYMONTH=1
TZNAME:SAST
TZOFFSETFROM:+0200
TZOFFSETTO:+0200
END:STANDARD
END:VTIMEZONE
BEGIN:VEVENT
UID:pretix-TYF-24-0@pretix.eu
DTSTART;TZID=Africa/Johannesburg:20240908T080000
DTEND;TZID=Africa/Johannesburg:20240908T150000
DESCRIPTION:Tickets: https://pretix.eu/TYF/24/\nOrganizer: TYF
DTSTAMP:20260421T174044Z
LOCATION:Future Africa Campus\, University of Pretoria\, South St\, Koedoes
 poort 456-Jr\, Pretoria\, 0186
SUMMARY:Tshwane Yoga Festival
END:VEVENT
END:VCALENDAR
