BEGIN:VCALENDAR
VERSION:2.0
PRODID:-//pretix//pretix.eu//
BEGIN:VTIMEZONE
TZID:Europe/Berlin
BEGIN:STANDARD
DTSTART:20001029T040000
RRULE:FREQ=YEARLY;BYDAY=-1SU;BYMONTH=10
TZNAME:CET
TZOFFSETFROM:+0200
TZOFFSETTO:+0100
END:STANDARD
BEGIN:DAYLIGHT
DTSTART:20000326T030000
RRULE:FREQ=YEARLY;BYDAY=-1SU;BYMONTH=3
TZNAME:CEST
TZOFFSETFROM:+0100
TZOFFSETTO:+0200
END:DAYLIGHT
END:VTIMEZONE
BEGIN:VEVENT
UID:pretix-Tanzen-qag8u-0@pretix.eu
DTSTART;TZID=Europe/Berlin:20231107T190000
DTEND;TZID=Europe/Berlin:20231107T203000
DESCRIPTION:Tickets: https://pretix.eu/Tanzen/qag8u/\nVeranstalter: Wissens
 wert - Tanzen mit Ulli Bixa
DTSTAMP:20260421T183043Z
LOCATION:Choretaki - online
SUMMARY:Präsentation <Die Wiederkehr der großen Göttin - Gabriele Wosien
  via Zoom>
END:VEVENT
END:VCALENDAR
