BEGIN:VCALENDAR
VERSION:2.0
PRODID:-//pretix//pretix.eu//
BEGIN:VTIMEZONE
TZID:Europe/Berlin
BEGIN:STANDARD
DTSTART:20001029T040000
RRULE:FREQ=YEARLY;BYDAY=-1SU;BYMONTH=10
TZNAME:CET
TZOFFSETFROM:+0200
TZOFFSETTO:+0100
END:STANDARD
BEGIN:DAYLIGHT
DTSTART:20000326T030000
RRULE:FREQ=YEARLY;BYDAY=-1SU;BYMONTH=3
TZNAME:CEST
TZOFFSETFROM:+0100
TZOFFSETTO:+0200
END:DAYLIGHT
END:VTIMEZONE
BEGIN:VEVENT
UID:pretix-Unitheaterka-UniTheater-4921512@pretix.eu
DTSTART;TZID=Europe/Berlin:20260505T193000
DTEND;TZID=Europe/Berlin:20260505T203000
DESCRIPTION:Tickets: https://pretix.eu/Unitheaterka/UniTheater/4921512/\nVe
 ranstalter: Unitheater Karlsruhe e.V.
DTSTAMP:20260419T165859Z
LOCATION:Festsaal des Studentenhaus des Studierendenwerkes Karlsruhe\, Aden
 auerring 7 76131
SUMMARY:Impro-Match – Spielfältig vs. Schmitz' Katze
END:VEVENT
END:VCALENDAR
