BEGIN:VCALENDAR
VERSION:2.0
PRODID:-//pretix//pretix.eu//
BEGIN:VTIMEZONE
TZID:Europe/Berlin
BEGIN:STANDARD
DTSTART:20001029T040000
RRULE:FREQ=YEARLY;BYDAY=-1SU;BYMONTH=10
TZNAME:CET
TZOFFSETFROM:+0200
TZOFFSETTO:+0100
END:STANDARD
BEGIN:DAYLIGHT
DTSTART:20000326T030000
RRULE:FREQ=YEARLY;BYDAY=-1SU;BYMONTH=3
TZNAME:CEST
TZOFFSETFROM:+0100
TZOFFSETTO:+0200
END:DAYLIGHT
END:VTIMEZONE
BEGIN:VEVENT
UID:pretix-VIFIT-VIFIT2023-0@pretix.eu
DTSTART;TZID=Europe/Berlin:20230614T090000
DTEND;TZID=Europe/Berlin:20230614T180000
DESCRIPTION:Tickets: https://pretix.eu/VIFIT/VIFIT2023/\nVeranstalter: DIPA
 Y GmbH
DTSTAMP:20260423T021217Z
LOCATION:H4 Hotel Leipzig\, Schongauerstraße 39\, 04329 Leipzig
SUMMARY:VIFIT2023
END:VEVENT
END:VCALENDAR
