BEGIN:VCALENDAR
VERSION:2.0
PRODID:-//pretix//pretix.eu//
BEGIN:VTIMEZONE
TZID:Europe/Berlin
BEGIN:STANDARD
DTSTART:20001029T040000
RRULE:FREQ=YEARLY;BYDAY=-1SU;BYMONTH=10
TZNAME:CET
TZOFFSETFROM:+0200
TZOFFSETTO:+0100
END:STANDARD
BEGIN:DAYLIGHT
DTSTART:20000326T030000
RRULE:FREQ=YEARLY;BYDAY=-1SU;BYMONTH=3
TZNAME:CEST
TZOFFSETFROM:+0100
TZOFFSETTO:+0200
END:DAYLIGHT
END:VTIMEZONE
BEGIN:VEVENT
UID:pretix-VIFIT-fz3vg-0@pretix.eu
DTSTART;TZID=Europe/Berlin:20230614T164000
DTEND;TZID=Europe/Berlin:20230614T170500
DESCRIPTION:Tickets: https://pretix.eu/VIFIT/fz3vg/\nOrganizer: DIPAY GmbH
DTSTAMP:20260420T003425Z
LOCATION:Saal 1
SUMMARY:Makler fragen - Spezialisten antworten mit Peter Schmidt Unternehme
 nsberatung\, Torsten Günther (Geldpilot)\, Holm Dömel (BVK)\, Sebastian 
 M. Laude (Maklerkonzepte)
END:VEVENT
END:VCALENDAR
