BEGIN:VCALENDAR
VERSION:2.0
PRODID:-//pretix//pretix.eu//
BEGIN:VTIMEZONE
TZID:Europe/Berlin
BEGIN:STANDARD
DTSTART:20001029T040000
RRULE:FREQ=YEARLY;BYDAY=-1SU;BYMONTH=10
TZNAME:CET
TZOFFSETFROM:+0200
TZOFFSETTO:+0100
END:STANDARD
BEGIN:DAYLIGHT
DTSTART:20000326T030000
RRULE:FREQ=YEARLY;BYDAY=-1SU;BYMONTH=3
TZNAME:CEST
TZOFFSETFROM:+0100
TZOFFSETTO:+0200
END:DAYLIGHT
END:VTIMEZONE
BEGIN:VEVENT
UID:pretix-Victorrolffstiftung-lukasheva-0@pretix.eu
DTSTART;TZID=Europe/Berlin:20240908T163000
DTEND;TZID=Europe/Berlin:20240908T173000
DESCRIPTION:Tickets: https://pretix.eu/Victorrolffstiftung/lukasheva/\nEinl
 ass: 08.09.2024 16:15\nVeranstalter: Victor Rolff Stiftung
DTSTAMP:20260419T135817Z
LOCATION:Burg Gladbach\, 52391 Vettweiß-Gladbach
SUMMARY:Tamara Lukasheva: Solo
END:VEVENT
END:VCALENDAR
