BEGIN:VCALENDAR
VERSION:2.0
PRODID:-//pretix//pretix.eu//
BEGIN:VTIMEZONE
TZID:Europe/Berlin
BEGIN:STANDARD
DTSTART:20001029T040000
RRULE:FREQ=YEARLY;BYDAY=-1SU;BYMONTH=10
TZNAME:CET
TZOFFSETFROM:+0200
TZOFFSETTO:+0100
END:STANDARD
BEGIN:DAYLIGHT
DTSTART:20000326T030000
RRULE:FREQ=YEARLY;BYDAY=-1SU;BYMONTH=3
TZNAME:CEST
TZOFFSETFROM:+0100
TZOFFSETTO:+0200
END:DAYLIGHT
END:VTIMEZONE
BEGIN:VEVENT
UID:pretix-VonKleinAUF-zuhause-2607695@pretix.eu
DTSTART;TZID=Europe/Berlin:20211018T100000
DTEND;TZID=Europe/Berlin:20211018T110000
DESCRIPTION:Tickets: https://pretix.eu/VonKleinAUF/zuhause/2607695/\nVerans
 talter: Von klein AUF
DTSTAMP:20260425T000603Z
LOCATION:Bei euch Zuhause - im Wohnzimmer\, Gemeinschaftsraum\, Innenhof od
 er Garten in Tübingen
SUMMARY:Zuhause - Ein mobiles Solo für die Kleinsten von eins bis vier und
  ihre Familien
END:VEVENT
END:VCALENDAR
