BEGIN:VCALENDAR
VERSION:2.0
PRODID:-//pretix//pretix.eu//
BEGIN:VTIMEZONE
TZID:Europe/Berlin
BEGIN:STANDARD
DTSTART:20001029T040000
RRULE:FREQ=YEARLY;BYDAY=-1SU;BYMONTH=10
TZNAME:CET
TZOFFSETFROM:+0200
TZOFFSETTO:+0100
END:STANDARD
BEGIN:DAYLIGHT
DTSTART:20000326T030000
RRULE:FREQ=YEARLY;BYDAY=-1SU;BYMONTH=3
TZNAME:CEST
TZOFFSETFROM:+0100
TZOFFSETTO:+0200
END:DAYLIGHT
END:VTIMEZONE
BEGIN:VEVENT
UID:pretix-Waasserhaus-ID400651812-0@pretix.eu
DTSTART;TZID=Europe/Berlin:20250810T201500
DTEND;TZID=Europe/Berlin:20250810T211500
DESCRIPTION:Tickets : https://pretix.eu/Waasserhaus/ID400651812/\nOrganisa
 teur : CineWaasserhaus
DTSTAMP:20260422T235431Z
LOCATION:CineWaasserhaus - Parc du Domaine Thermal - Avenue des Bains - L-5
 610 Mondorf-les-Bains
SUMMARY:Fantastic Four: First Steps (Version allemande)
END:VEVENT
END:VCALENDAR
