BEGIN:VCALENDAR
VERSION:2.0
PRODID:-//pretix//pretix.eu//
BEGIN:VTIMEZONE
TZID:Europe/Berlin
BEGIN:STANDARD
DTSTART:20001029T040000
RRULE:FREQ=YEARLY;BYDAY=-1SU;BYMONTH=10
TZNAME:CET
TZOFFSETFROM:+0200
TZOFFSETTO:+0100
END:STANDARD
BEGIN:DAYLIGHT
DTSTART:20000326T030000
RRULE:FREQ=YEARLY;BYDAY=-1SU;BYMONTH=3
TZNAME:CEST
TZOFFSETFROM:+0100
TZOFFSETTO:+0200
END:DAYLIGHT
END:VTIMEZONE
BEGIN:VEVENT
UID:pretix-Waasserhaus-ID933677621-0@pretix.eu
DTSTART;TZID=Europe/Berlin:20251027T193000
DTEND;TZID=Europe/Berlin:20251027T203000
DESCRIPTION:Tickets : https://pretix.eu/Waasserhaus/ID933677621/\nOrganisa
 teur : CineWaasserhaus
DTSTAMP:20260419T143439Z
LOCATION:CineWaasserhaus - Parc du Domaine Thermal - Avenue des Bains - L-5
 610 Mondorf-les-Bains
SUMMARY:Dracula (de Radu Jude) (Version originale st anglais)
END:VEVENT
END:VCALENDAR
