BEGIN:VCALENDAR
VERSION:2.0
PRODID:-//pretix//pretix.eu//
BEGIN:VTIMEZONE
TZID:Europe/Berlin
BEGIN:STANDARD
DTSTART:20001029T040000
RRULE:FREQ=YEARLY;BYDAY=-1SU;BYMONTH=10
TZNAME:CET
TZOFFSETFROM:+0200
TZOFFSETTO:+0100
END:STANDARD
BEGIN:DAYLIGHT
DTSTART:20000326T030000
RRULE:FREQ=YEARLY;BYDAY=-1SU;BYMONTH=3
TZNAME:CEST
TZOFFSETFROM:+0100
TZOFFSETTO:+0200
END:DAYLIGHT
END:VTIMEZONE
BEGIN:VEVENT
UID:pretix-WoAK-Skatepark-0@pretix.eu
DTSTART;TZID=Europe/Berlin:20200911T203000
DTEND;TZID=Europe/Berlin:20200911T220000
DESCRIPTION:Tickets: https://pretix.eu/WoAK/Skatepark/\nEinlass: 11.09.2020
  19:30\nVeranstalter: Karlstorkino
DTSTAMP:20260423T160615Z
LOCATION:Skatepark am Römerbad\, Neuenheim\, Heidelberg
SUMMARY:Mid90s@Skatepark Römerbad
END:VEVENT
END:VCALENDAR
