BEGIN:VCALENDAR
VERSION:2.0
PRODID:-//pretix//pretix.eu//
BEGIN:VEVENT
UID:pretix-YSY-eintritt-0@pretix.eu
DTSTART;VALUE=DATE:20230601
DTEND;VALUE=DATE:20230602
DESCRIPTION:Tickets: https://pretix.eu/YSY/eintritt/\nVeranstalter: Stadt S
 yke  - Bäder
DTSTAMP:20260421T080552Z
LOCATION:YSY Syke
SUMMARY:YSY-Eintritt
END:VEVENT
END:VCALENDAR
