BEGIN:VCALENDAR
VERSION:2.0
PRODID:-//pretix//pretix.eu//
BEGIN:VTIMEZONE
TZID:Europe/Copenhagen
BEGIN:STANDARD
DTSTART:20001029T040000
RRULE:FREQ=YEARLY;BYDAY=-1SU;BYMONTH=10
TZNAME:CET
TZOFFSETFROM:+0200
TZOFFSETTO:+0100
END:STANDARD
BEGIN:DAYLIGHT
DTSTART:20000326T030000
RRULE:FREQ=YEARLY;BYDAY=-1SU;BYMONTH=3
TZNAME:CEST
TZOFFSETFROM:+0100
TZOFFSETTO:+0200
END:DAYLIGHT
END:VTIMEZONE
BEGIN:VEVENT
UID:pretix-aakb-dpl-cms-2669-jq8lrxqp-0@pretix.eu
DTSTART;TZID=Europe/Copenhagen:20260510T130000
DTEND;TZID=Europe/Copenhagen:20260510T143000
DESCRIPTION:Billetter: https://pretix.eu/aakb/dpl-cms-2669-jq8lrxqp/\nOrgan
 izer: Aarhus Bibliotekerne
DTSTAMP:20260421T025419Z
LOCATION:Lille sal\, Hack Kampmanns Pl. 2\, 8000 Aarhus
SUMMARY:OPRØR! Protestmusik fra folk til hiphop
END:VEVENT
END:VCALENDAR
