BEGIN:VCALENDAR
VERSION:2.0
PRODID:-//pretix//pretix.eu//
BEGIN:VTIMEZONE
TZID:Europe/Copenhagen
BEGIN:STANDARD
DTSTART:20001029T040000
RRULE:FREQ=YEARLY;BYDAY=-1SU;BYMONTH=10
TZNAME:CET
TZOFFSETFROM:+0200
TZOFFSETTO:+0100
END:STANDARD
BEGIN:DAYLIGHT
DTSTART:20000326T030000
RRULE:FREQ=YEARLY;BYDAY=-1SU;BYMONTH=3
TZNAME:CEST
TZOFFSETFROM:+0100
TZOFFSETTO:+0200
END:DAYLIGHT
END:VTIMEZONE
BEGIN:VEVENT
UID:pretix-aakb-dpl-cms-2756-edfp7ou9-0@pretix.eu
DTSTART;TZID=Europe/Copenhagen:20260504T100000
DTEND;TZID=Europe/Copenhagen:20260504T110000
DESCRIPTION:Billetter: https://pretix.eu/aakb/dpl-cms-2756-edfp7ou9/\nOrgan
 izer: Aarhus Bibliotekerne
DTSTAMP:20260424T181016Z
LOCATION:Kultursalen\, Virupvej 73\, 8530 Hjortshøj
SUMMARY:Barselscafé: Tryk af babys hånd eller fod
END:VEVENT
END:VCALENDAR
