BEGIN:VCALENDAR
VERSION:2.0
PRODID:-//pretix//pretix.eu//
BEGIN:VTIMEZONE
TZID:Europe/Copenhagen
BEGIN:STANDARD
DTSTART:20001029T040000
RRULE:FREQ=YEARLY;BYDAY=-1SU;BYMONTH=10
TZNAME:CET
TZOFFSETFROM:+0200
TZOFFSETTO:+0100
END:STANDARD
BEGIN:DAYLIGHT
DTSTART:20000326T030000
RRULE:FREQ=YEARLY;BYDAY=-1SU;BYMONTH=3
TZNAME:CEST
TZOFFSETFROM:+0100
TZOFFSETTO:+0200
END:DAYLIGHT
END:VTIMEZONE
BEGIN:VEVENT
UID:pretix-aakb-dpl-cms-3088-gdz7tdjn-0@pretix.eu
DTSTART;TZID=Europe/Copenhagen:20260603T173000
DTEND;TZID=Europe/Copenhagen:20260603T190000
DESCRIPTION:Billetter: https://pretix.eu/aakb/dpl-cms-3088-gdz7tdjn/\nOrgan
 izer: Aarhus Bibliotekerne
DTSTAMP:20260425T231644Z
LOCATION:Pavillonen
SUMMARY:Flowerkraut fermenteringsworkshop – lav den smukkeste surkål med
  spiselige blomster
END:VEVENT
END:VCALENDAR
