BEGIN:VCALENDAR
VERSION:2.0
PRODID:-//pretix//pretix.eu//
BEGIN:VTIMEZONE
TZID:Europe/Berlin
BEGIN:STANDARD
DTSTART:20001029T040000
RRULE:FREQ=YEARLY;BYDAY=-1SU;BYMONTH=10
TZNAME:CET
TZOFFSETFROM:+0200
TZOFFSETTO:+0100
END:STANDARD
BEGIN:DAYLIGHT
DTSTART:20000326T030000
RRULE:FREQ=YEARLY;BYDAY=-1SU;BYMONTH=3
TZNAME:CEST
TZOFFSETFROM:+0100
TZOFFSETTO:+0200
END:DAYLIGHT
END:VTIMEZONE
BEGIN:VEVENT
UID:pretix-abassodyssey-volume-2-0@pretix.eu
DTSTART;TZID=Europe/Berlin:20180113T230000
DTEND;TZID=Europe/Berlin:20180114T090000
DESCRIPTION:Tickets: https://pretix.eu/abassodyssey/volume-2/\nAdmission: 2
 018-01-13 23:00\nOrganizer: A Bass Odyssey
DTSTAMP:20260425T210950Z
LOCATION:Mensch Meier Berlin
SUMMARY:A Bass Odyssey
END:VEVENT
END:VCALENDAR
