BEGIN:VCALENDAR
VERSION:2.0
PRODID:-//pretix//pretix.eu//
BEGIN:VTIMEZONE
TZID:Europe/Berlin
BEGIN:STANDARD
DTSTART:20001029T040000
RRULE:FREQ=YEARLY;BYDAY=-1SU;BYMONTH=10
TZNAME:CET
TZOFFSETFROM:+0200
TZOFFSETTO:+0100
END:STANDARD
BEGIN:DAYLIGHT
DTSTART:20000326T030000
RRULE:FREQ=YEARLY;BYDAY=-1SU;BYMONTH=3
TZNAME:CEST
TZOFFSETFROM:+0100
TZOFFSETTO:+0200
END:DAYLIGHT
END:VTIMEZONE
BEGIN:VEVENT
UID:pretix-act-smartware-aitc-ka-2026-0@pretix.eu
DTSTART;TZID=Europe/Berlin:20260703T083000
DTEND;TZID=Europe/Berlin:20260703T173000
DESCRIPTION:Tickets: https://pretix.eu/act-smartware/aitc-ka-2026/\nEinlass
 : 03.07.2026 08:30\nVeranstalter: ACT Smartware GmbH
DTSTAMP:20260419T153035Z
LOCATION:GoodSpaces SteamWork\, Roonstraße 23a\, 76137 Karlsruhe
SUMMARY:AI Transformation Camp Karlsruhe 2026
END:VEVENT
END:VCALENDAR
