BEGIN:VCALENDAR
VERSION:2.0
PRODID:-//pretix//pretix.eu//
BEGIN:VTIMEZONE
TZID:Europe/Berlin
BEGIN:STANDARD
DTSTART:20001029T040000
RRULE:FREQ=YEARLY;BYDAY=-1SU;BYMONTH=10
TZNAME:CET
TZOFFSETFROM:+0200
TZOFFSETTO:+0100
END:STANDARD
BEGIN:DAYLIGHT
DTSTART:20000326T030000
RRULE:FREQ=YEARLY;BYDAY=-1SU;BYMONTH=3
TZNAME:CEST
TZOFFSETFROM:+0100
TZOFFSETTO:+0200
END:DAYLIGHT
END:VTIMEZONE
BEGIN:VEVENT
UID:pretix-ada-studio-neworks-2404-0@pretix.eu
DTSTART;TZID=Europe/Berlin:20260424T190000
DTEND;TZID=Europe/Berlin:20260424T210000
DESCRIPTION:Tickets: https://pretix.eu/ada-studio/neworks-2404/\nAdmission:
  2026-04-24 19:00\nOrganizer: ada Studio gUG (haftungsbeschränkt)
DTSTAMP:20260421T160057Z
LOCATION:ada Studio für zeitgenössischen Tanz\, Uferstraße 23\, 13357 Be
 rlin
SUMMARY:neworks - Destruction Bureau
END:VEVENT
BEGIN:VEVENT
UID:pretix-ada-studio-neworks-2504-0@pretix.eu
DTSTART;TZID=Europe/Berlin:20260425T190000
DTEND;TZID=Europe/Berlin:20260425T210000
DESCRIPTION:Tickets: https://pretix.eu/ada-studio/neworks-2504/\nAdmission:
  2026-04-25 19:00\nOrganizer: ada Studio gUG (haftungsbeschränkt)
DTSTAMP:20260421T160057Z
LOCATION:ada Studio für zeitgenössischen Tanz\, Uferstraße 23\, 13357 Be
 rlin
SUMMARY:neworks - Destruction Bureau
END:VEVENT
END:VCALENDAR
