BEGIN:VCALENDAR
VERSION:2.0
PRODID:-//pretix//pretix.eu//
BEGIN:VTIMEZONE
TZID:Europe/Rome
BEGIN:STANDARD
DTSTART:20001029T040000
RRULE:FREQ=YEARLY;BYDAY=-1SU;BYMONTH=10
TZNAME:CET
TZOFFSETFROM:+0200
TZOFFSETTO:+0100
END:STANDARD
BEGIN:DAYLIGHT
DTSTART:20000326T030000
RRULE:FREQ=YEARLY;BYDAY=-1SU;BYMONTH=3
TZNAME:CEST
TZOFFSETFROM:+0100
TZOFFSETTO:+0200
END:DAYLIGHT
END:VTIMEZONE
BEGIN:VEVENT
UID:pretix-advento-SH2022-0@pretix.eu
DTSTART;TZID=Europe/Rome:20220407T090000
DTEND;TZID=Europe/Rome:20220408T180000
DESCRIPTION:Tickets: https://pretix.eu/advento/SH2022/\nOrganizer: Synesthe
 sia Events
DTSTAMP:20260420T123459Z
LOCATION:Museo Nazionale dell'Automobile\, Corso Unità d'Italia 40\, 10126
  Torino\, Italy
SUMMARY:Swift Heroes 2022
END:VEVENT
END:VCALENDAR
