BEGIN:VCALENDAR
VERSION:2.0
PRODID:-//pretix//pretix.eu//
BEGIN:VTIMEZONE
TZID:Europe/Berlin
BEGIN:STANDARD
DTSTART:20001029T040000
RRULE:FREQ=YEARLY;BYDAY=-1SU;BYMONTH=10
TZNAME:CET
TZOFFSETFROM:+0200
TZOFFSETTO:+0100
END:STANDARD
BEGIN:DAYLIGHT
DTSTART:20000326T030000
RRULE:FREQ=YEARLY;BYDAY=-1SU;BYMONTH=3
TZNAME:CEST
TZOFFSETFROM:+0100
TZOFFSETTO:+0200
END:DAYLIGHT
END:VTIMEZONE
BEGIN:VEVENT
UID:pretix-aeb-se-aeb-dow-jones-zurich-0@pretix.eu
DTSTART;TZID=Europe/Berlin:20260910T153000
DTEND;TZID=Europe/Berlin:20260910T230000
DESCRIPTION:Tickets: https://pretix.eu/aeb-se/aeb-dow-jones-zurich/\nVerans
 talter: AEB SE
DTSTAMP:20260421T061453Z
LOCATION:Flughafen Zürich\, Besucherraum Dock B\, 8058 Zürich-Flughafen
SUMMARY:Exportkontrolle Schweiz: Souverän handeln im globalen Wandel
END:VEVENT
END:VCALENDAR
