BEGIN:VCALENDAR
VERSION:2.0
PRODID:-//pretix//pretix.eu//
BEGIN:VTIMEZONE
TZID:Europe/Berlin
BEGIN:STANDARD
DTSTART:20001029T040000
RRULE:FREQ=YEARLY;BYDAY=-1SU;BYMONTH=10
TZNAME:CET
TZOFFSETFROM:+0200
TZOFFSETTO:+0100
END:STANDARD
BEGIN:DAYLIGHT
DTSTART:20000326T030000
RRULE:FREQ=YEARLY;BYDAY=-1SU;BYMONTH=3
TZNAME:CEST
TZOFFSETFROM:+0100
TZOFFSETTO:+0200
END:DAYLIGHT
END:VTIMEZONE
BEGIN:VEVENT
UID:pretix-aeb-se-get-connected-26-0@pretix.eu
DTSTART;TZID=Europe/Berlin:20260519T083000
DTEND;TZID=Europe/Berlin:20260519T193000
DESCRIPTION:Tickets: https://pretix.eu/aeb-se/get-connected-26/\nAdmission:
  2026-05-19 08:30\nOrganizer: AEB SE
DTSTAMP:20260423T083717Z
LOCATION:AEB SE\, Sigmaringer Straße 109\, 70567 Stuttgart\, Germany
SUMMARY:AEB get connected 2026
END:VEVENT
END:VCALENDAR
